BEGIN:VCALENDAR
VERSION:2.0
PRODID:-//wp-events-plugin.com//7.2.3.1//EN
TZID:Africa/Nairobi
X-WR-TIMEZONE:Africa/Nairobi
BEGIN:VEVENT
UID:347@strongstart.co.ke
DTSTART;TZID=Africa/Nairobi:20260330T090000
DTEND;TZID=Africa/Nairobi:20260417T150000
DTSTAMP:20260330T100754Z
URL:https://strongstart.co.ke/events/pre-k-3y-5y-lavington-april-camp-marc
 h-30-april-17-2026
SUMMARY:Half Day & Full Day Pre - K (3Y - 5Y) Lavington: April Camp\, March
  30 - April 17\, 2026
DESCRIPTION:\nHalf Day &amp\; Full Days Pre-K (3Y - 5Y) Lavington\n\n\nStro
 ng Start’s Pre-Kindergarten program helps children aged 3–5 years deve
 lop key skills through a nurturing\, play-based approach. With a well-roun
 ded curriculum in Art\, Literacy\, Math\, Science\, and Physical Education
 \, the program supports each child’s physical\, cognitive\, and social-e
 motional growth—building confidence and a love for learning.\n\n\n\n\n\n
 \nAbout the event\n\n\n\nStrong Start offers a wonder-filled Holiday Camp 
 for children aged 6 months to 5 years where each week offers a new themed 
 adventure designed to spark creativity\, inspire imagination\, and support
  whole-child development through hands-on play.\n\n\n\n\n\n\n\n\n\n\n\n\n\
 n\n\n\nWeekly Immersive Theme Calendar\n\nWeek 1:\nMarch 30 – April 3\n\
 nLittle Nature &amp\; Discovery Camp\nChildren explore the wonders of natu
 re through sensory play\, gardening activities\, nature walks\, and simple
  science discoveries. Little explorers learn about plants\, insects\, and 
 the environment while building curiosity and confidence.\n\nWeek 2:\nApril
  6 – April 10\n\nMini Creators Art &amp\; Expression Camp\nA colorful we
 ek of creativity where children paint\, craft\, build\, and express themse
 lves through art\, music\, and imaginative play. Activities encourage crea
 tivity\, self-expression\, and fine motor development.\n\nWeek 3:\nApril 1
 3 – April 17\n\nAnimal &amp\; Storybook Adventure Camp\nStories come ali
 ve through animal-themed tales\, dramatic play\, storytelling circles\, an
 d themed crafts. Children explore their imagination\, build language skill
 s\, and develop a love for books and storytelling.\n\nWhat to Pack for You
 r Child:\n\n\n\n 	Snacks &amp\; refreshments\n 	Art smock (if you have one
 \; it's okay if you don't - all paints are water-based and washable)\n 	Ch
 ild essentials (comfortable shoes\, extra change of clothing\, diapers\, w
 ipes\, blanket or shuka)\n 	Weather appropriate clothing (i.e. sunhat\, ra
 in jacket\, boots\, sweater\, etc)\n 	Apron for nanny (we get messy!)\n\nP
 RE-K Classes:\n\n 	Monday – Football – Art Explosion\n 	Tuesday – Ba
 sketball – Science &amp\; Loose Parts – Music &amp\; Movement\n 	Wedne
 sday – Obstacle Course – Early Math Skills – Messy Play\n 	Thursday 
 – Tumbling &amp\; Gymnastics – Nature &amp\; Garden – Library\n 	Fri
 day – Athletics – Football\n\nTiming Schedule:\n\n 	8:45am - 9:15am: 
 Drop Off &amp\; Free Play\n 	9:15am - 9:30am: Circle Time\n 	9:30am - 10:0
 0am: Activity 1\n 	10:00am - 10:20am: Reading &amp\; Literacy\n 	10:20am -
  10:35am: Snack &amp\; Recess\n 	10:35am – 11:30am: Activity 2\n 	11:30a
 m - 12:00pm: Activity 3\n 	12:00pm - 12:20pm: Lunch\n 	12:20pm - 12:30pm: 
 Tidy Up &amp\; Goodbyes\n\nClassroom Etiquette:\n\n 	This is an outdoor ba
 sed class! Please dress your child appropriately for the weather! Winter/R
 ainy Weather Recommendations: Socks (2 pairs)\, sweaters\, rainboots\, jac
 kets\, hats\n 	If your child displays any cold or flu symptoms\, please ke
 ep them at home! If your child or nanny comes to class with any cold or fl
 u symptoms\, they will be separated from the group and asked to go home.\n
 \n\nRegistration Details\nPlease fill in the form below to register for th
 is class.\n\n[everest_form id="3841"]\n\n\n\n\n\n\n\n\n&nbsp\;\n\n&nbsp\;
ATTACH;FMTTYPE=image/jpeg:https://i0.wp.com/strongstart.co.ke/wp-content/u
 ploads/2026/03/pexels-photo-7031299-7031299.jpg?fit=6261%2C4174&ssl=1
CATEGORIES:Lavington Camp
LOCATION:Lavington\, Manyani East Road\, House 118\, Nairobi\, Kenya
X-APPLE-STRUCTURED-LOCATION;VALUE=URI;X-ADDRESS=Manyani East Road\, House 1
 18\, Nairobi\, Kenya;X-APPLE-RADIUS=100;X-TITLE=Lavington:geo:0,0
END:VEVENT
BEGIN:VTIMEZONE
TZID:Africa/Nairobi
X-LIC-LOCATION:Africa/Nairobi
BEGIN:STANDARD
DTSTART:20250330T090000
TZOFFSETFROM:+0300
TZOFFSETTO:+0300
TZNAME:EAT
END:STANDARD
END:VTIMEZONE
END:VCALENDAR